BEGIN:VCALENDAR
VERSION:2.0
PRODID:-//Next Showcase USA - ECPv6.15.1.1//NONSGML v1.0//EN
CALSCALE:GREGORIAN
METHOD:PUBLISH
X-WR-CALNAME:Next Showcase USA
X-ORIGINAL-URL:https://www.nextshowcaseusa.com
X-WR-CALDESC:Events for Next Showcase USA
REFRESH-INTERVAL;VALUE=DURATION:PT1H
X-Robots-Tag:noindex
X-PUBLISHED-TTL:PT1H
BEGIN:VTIMEZONE
TZID:UTC
BEGIN:STANDARD
TZOFFSETFROM:+0000
TZOFFSETTO:+0000
TZNAME:UTC
DTSTART:20250101T000000
END:STANDARD
END:VTIMEZONE
BEGIN:VEVENT
DTSTART;TZID=UTC:20250218T183000
DTEND;TZID=UTC:20250218T233000
DTSTAMP:20260421T124600
CREATED:20250204T105706Z
LAST-MODIFIED:20250204T110136Z
UID:1446-1739903400-1739921400@www.nextshowcaseusa.com
SUMMARY:February Artist Spotlight
DESCRIPTION:
URL:https://www.nextshowcaseusa.com/event/february-artist-spotlight/
LOCATION:House of Blues Foundation Room\, 329 N Dearborn\, Chicago\, IL\, 60655\, United States
ATTACH;FMTTYPE=image/jpeg:https://www.nextshowcaseusa.com/wp-content/uploads/2025/02/image0.jpeg
ORGANIZER;CN="Next Showcase USA":MAILTO:nextshowcaseusa@gmail.com
END:VEVENT
BEGIN:VEVENT
DTSTART;TZID=UTC:20250222T120000
DTEND;TZID=UTC:20250222T180000
DTSTAMP:20260421T124600
CREATED:20250107T224619Z
LAST-MODIFIED:20250107T224619Z
UID:1440-1740225600-1740247200@www.nextshowcaseusa.com
SUMMARY:Next Showcase Auditions
DESCRIPTION:
URL:https://www.nextshowcaseusa.com/event/next-showcase-auditions/
LOCATION:Blu 26\, 2628 S Wabash\, Chicago\, IL\, 60616\, United States
ORGANIZER;CN="Next Showcase USA":MAILTO:nextshowcaseusa@gmail.com
END:VEVENT
END:VCALENDAR