BEGIN:VCALENDAR
VERSION:2.0
PRODID:-//Next Showcase USA - ECPv6.15.1.1//NONSGML v1.0//EN
CALSCALE:GREGORIAN
METHOD:PUBLISH
X-ORIGINAL-URL:https://www.nextshowcaseusa.com
X-WR-CALDESC:Events for Next Showcase USA
REFRESH-INTERVAL;VALUE=DURATION:PT1H
X-Robots-Tag:noindex
X-PUBLISHED-TTL:PT1H
BEGIN:VTIMEZONE
TZID:UTC
BEGIN:STANDARD
TZOFFSETFROM:+0000
TZOFFSETTO:+0000
TZNAME:UTC
DTSTART:20240101T000000
END:STANDARD
END:VTIMEZONE
BEGIN:VEVENT
DTSTART;TZID=UTC:20240914T120000
DTEND;TZID=UTC:20240917T210000
DTSTAMP:20260421T170443
CREATED:20240828T161745Z
LAST-MODIFIED:20240828T161745Z
UID:1406-1726315200-1726606800@www.nextshowcaseusa.com
SUMMARY:Chicago Made Music Showcase Auditions
DESCRIPTION:
URL:https://www.nextshowcaseusa.com/event/chicago-made-music-showcase-auditions/
LOCATION:Chicago Cultural Center\, 78 E Washington\, chicago\, IL\, 60602\, United States
ATTACH;FMTTYPE=image/jpeg:https://www.nextshowcaseusa.com/wp-content/uploads/2024/08/Poster-Chicago-Made-2024-Instagram_1724786536372.jpg
ORGANIZER;CN="Next Showcase USA":MAILTO:nextshowcaseusa@gmail.com
END:VEVENT
END:VCALENDAR