BEGIN:VCALENDAR
VERSION:2.0
PRODID:-//Next Showcase USA - ECPv6.15.1.1//NONSGML v1.0//EN
CALSCALE:GREGORIAN
METHOD:PUBLISH
X-WR-CALNAME:Next Showcase USA
X-ORIGINAL-URL:https://www.nextshowcaseusa.com
X-WR-CALDESC:Events for Next Showcase USA
REFRESH-INTERVAL;VALUE=DURATION:PT1H
X-Robots-Tag:noindex
X-PUBLISHED-TTL:PT1H
BEGIN:VTIMEZONE
TZID:UTC
BEGIN:STANDARD
TZOFFSETFROM:+0000
TZOFFSETTO:+0000
TZNAME:UTC
DTSTART:20230101T000000
END:STANDARD
END:VTIMEZONE
BEGIN:VEVENT
DTSTART;TZID=UTC:20231229T180000
DTEND;TZID=UTC:20231230T010000
DTSTAMP:20260422T054222
CREATED:20231219T213340Z
LAST-MODIFIED:20231219T213434Z
UID:1356-1703872800-1703898000@www.nextshowcaseusa.com
SUMMARY:December Artist Spotlight
DESCRIPTION:
URL:https://www.nextshowcaseusa.com/event/december-artist-spotlight/
LOCATION:House of Blues Foundation Room\, 329 N Dearborn\, Chicago\, IL\, 60655\, United States
ATTACH;FMTTYPE=image/jpeg:https://www.nextshowcaseusa.com/wp-content/uploads/2023/12/December-showcase-Wide-1.jpg
ORGANIZER;CN="Next Showcase USA":MAILTO:nextshowcaseusa@gmail.com
END:VEVENT
END:VCALENDAR