BEGIN:VCALENDAR
VERSION:2.0
PRODID:-//Next Showcase USA - ECPv6.15.1.1//NONSGML v1.0//EN
CALSCALE:GREGORIAN
METHOD:PUBLISH
X-WR-CALNAME:Next Showcase USA
X-ORIGINAL-URL:https://www.nextshowcaseusa.com
X-WR-CALDESC:Events for Next Showcase USA
REFRESH-INTERVAL;VALUE=DURATION:PT1H
X-Robots-Tag:noindex
X-PUBLISHED-TTL:PT1H
BEGIN:VTIMEZONE
TZID:America/Chicago
BEGIN:DAYLIGHT
TZOFFSETFROM:-0600
TZOFFSETTO:-0500
TZNAME:CDT
DTSTART:20230312T080000
END:DAYLIGHT
BEGIN:STANDARD
TZOFFSETFROM:-0500
TZOFFSETTO:-0600
TZNAME:CST
DTSTART:20231105T070000
END:STANDARD
END:VTIMEZONE
BEGIN:VEVENT
DTSTART;TZID=America/Chicago:20230117T190000
DTEND;TZID=America/Chicago:20230117T220000
DTSTAMP:20260421T234519
CREATED:20230115T061057Z
LAST-MODIFIED:20230115T061057Z
UID:1206-1673982000-1673992800@www.nextshowcaseusa.com
SUMMARY:Auditions Round One
DESCRIPTION:
URL:https://www.nextshowcaseusa.com/event/auditions-round-one/
LOCATION:Hue Chicago\, 67 E. Cermak\, Chicago\, IL\, United States
ORGANIZER;CN="Next Showcase USA":MAILTO:nextshowcaseusa@gmail.com
END:VEVENT
END:VCALENDAR