BEGIN:VCALENDAR
VERSION:2.0
PRODID:-//Next Showcase USA - ECPv6.15.1.1//NONSGML v1.0//EN
CALSCALE:GREGORIAN
METHOD:PUBLISH
X-WR-CALNAME:Next Showcase USA
X-ORIGINAL-URL:https://www.nextshowcaseusa.com
X-WR-CALDESC:Events for Next Showcase USA
REFRESH-INTERVAL;VALUE=DURATION:PT1H
X-Robots-Tag:noindex
X-PUBLISHED-TTL:PT1H
BEGIN:VTIMEZONE
TZID:UTC
BEGIN:STANDARD
TZOFFSETFROM:+0000
TZOFFSETTO:+0000
TZNAME:UTC
DTSTART:20250101T000000
END:STANDARD
END:VTIMEZONE
BEGIN:VEVENT
DTSTART;TZID=UTC:20250324T190000
DTEND;TZID=UTC:20250324T210000
DTSTAMP:20260421T152900
CREATED:20250309T024929Z
LAST-MODIFIED:20250309T024929Z
UID:1455-1742842800-1742850000@www.nextshowcaseusa.com
SUMMARY:Breaking IN
DESCRIPTION:
URL:https://www.nextshowcaseusa.com/event/breaking-in/
LOCATION:IL
ATTACH;FMTTYPE=image/png:https://www.nextshowcaseusa.com/wp-content/uploads/2025/03/BREAKING-IN.png
ORGANIZER;CN="Next Showcase Foundation":MAILTO:info@nextshowcasefoundation.org
END:VEVENT
END:VCALENDAR