BEGIN:VCALENDAR
VERSION:2.0
PRODID:-//Next Showcase USA - ECPv6.15.1.1//NONSGML v1.0//EN
CALSCALE:GREGORIAN
METHOD:PUBLISH
X-ORIGINAL-URL:https://www.nextshowcaseusa.com
X-WR-CALDESC:Events for Next Showcase USA
REFRESH-INTERVAL;VALUE=DURATION:PT1H
X-Robots-Tag:noindex
X-PUBLISHED-TTL:PT1H
BEGIN:VTIMEZONE
TZID:UTC
BEGIN:STANDARD
TZOFFSETFROM:+0000
TZOFFSETTO:+0000
TZNAME:UTC
DTSTART:20240101T000000
END:STANDARD
END:VTIMEZONE
BEGIN:VEVENT
DTSTART;TZID=UTC:20240622T080000
DTEND;TZID=UTC:20240622T230000
DTSTAMP:20260421T221154
CREATED:20240619T024908Z
LAST-MODIFIED:20240619T024908Z
UID:1402-1719043200-1719097200@www.nextshowcaseusa.com
SUMMARY:June Artist Spotlight
DESCRIPTION:
URL:https://www.nextshowcaseusa.com/event/june-artist-spotlight/
LOCATION:House of Blues Foundation Room\, 329 N Dearborn\, Chicago\, IL\, 60655\, United States
END:VEVENT
END:VCALENDAR