BEGIN:VCALENDAR
VERSION:2.0
PRODID:-//Next Showcase USA - ECPv6.15.1.1//NONSGML v1.0//EN
CALSCALE:GREGORIAN
METHOD:PUBLISH
X-WR-CALNAME:Next Showcase USA
X-ORIGINAL-URL:https://www.nextshowcaseusa.com
X-WR-CALDESC:Events for Next Showcase USA
REFRESH-INTERVAL;VALUE=DURATION:PT1H
X-Robots-Tag:noindex
X-PUBLISHED-TTL:PT1H
BEGIN:VTIMEZONE
TZID:UTC
BEGIN:STANDARD
TZOFFSETFROM:+0000
TZOFFSETTO:+0000
TZNAME:UTC
DTSTART:20240101T000000
END:STANDARD
END:VTIMEZONE
BEGIN:VEVENT
DTSTART;TZID=UTC:20240601T183000
DTEND;TZID=UTC:20240601T203000
DTSTAMP:20260421T233130
CREATED:20240529T015008Z
LAST-MODIFIED:20240529T015008Z
UID:1398-1717266600-1717273800@www.nextshowcaseusa.com
SUMMARY:Chi Soul Fest 2024
DESCRIPTION:
URL:https://www.nextshowcaseusa.com/event/chi-soul-fest-2024/
LOCATION:Navy Pier\, 600 E Grand\, Chicago\, IL\, 60611\, United States
ORGANIZER;CN="Next Showcase USA":MAILTO:nextshowcaseusa@gmail.com
END:VEVENT
END:VCALENDAR