BEGIN:VCALENDAR
VERSION:2.0
PRODID:-//Next Showcase USA - ECPv6.15.1.1//NONSGML v1.0//EN
CALSCALE:GREGORIAN
METHOD:PUBLISH
X-ORIGINAL-URL:https://www.nextshowcaseusa.com
X-WR-CALDESC:Events for Next Showcase USA
REFRESH-INTERVAL;VALUE=DURATION:PT1H
X-Robots-Tag:noindex
X-PUBLISHED-TTL:PT1H
BEGIN:VTIMEZONE
TZID:UTC
BEGIN:STANDARD
TZOFFSETFROM:+0000
TZOFFSETTO:+0000
TZNAME:UTC
DTSTART:20240101T000000
END:STANDARD
END:VTIMEZONE
BEGIN:VEVENT
DTSTART;TZID=UTC:20240427T190000
DTEND;TZID=UTC:20240427T230000
DTSTAMP:20260422T010837
CREATED:20240424T122215Z
LAST-MODIFIED:20240424T122215Z
UID:1392-1714244400-1714258800@www.nextshowcaseusa.com
SUMMARY:April Artist Spotlight
DESCRIPTION:
URL:https://www.nextshowcaseusa.com/event/april-artist-spotlight/
LOCATION:House of Blues Foundation Room\, 329 N Dearborn\, Chicago\, IL\, 60655\, United States
ATTACH;FMTTYPE=image/jpeg:https://www.nextshowcaseusa.com/wp-content/uploads/2024/04/April-banner.jpg
ORGANIZER;CN="Next Showcase USA":MAILTO:nextshowcaseusa@gmail.com
END:VEVENT
END:VCALENDAR