BEGIN:VCALENDAR
VERSION:2.0
PRODID:-//Next Showcase USA - ECPv6.15.1.1//NONSGML v1.0//EN
CALSCALE:GREGORIAN
METHOD:PUBLISH
X-WR-CALNAME:Next Showcase USA
X-ORIGINAL-URL:https://www.nextshowcaseusa.com
X-WR-CALDESC:Events for Next Showcase USA
REFRESH-INTERVAL;VALUE=DURATION:PT1H
X-Robots-Tag:noindex
X-PUBLISHED-TTL:PT1H
BEGIN:VTIMEZONE
TZID:UTC
BEGIN:STANDARD
TZOFFSETFROM:+0000
TZOFFSETTO:+0000
TZNAME:UTC
DTSTART:20240101T000000
END:STANDARD
END:VTIMEZONE
BEGIN:VEVENT
DTSTART;TZID=UTC:20240228T180000
DTEND;TZID=UTC:20240228T180000
DTSTAMP:20260422T024508
CREATED:20240201T000031Z
LAST-MODIFIED:20240201T000031Z
UID:1373-1709143200-1709143200@www.nextshowcaseusa.com
SUMMARY:February Artist Spotlight Showcase at The Foundation Room
DESCRIPTION:
URL:https://www.nextshowcaseusa.com/event/february-artist-spotlight-showcase-at-the-foundation-room/
LOCATION:House of Blues Foundation Room\, 329 N Dearborn\, Chicago\, IL\, 60655\, United States
ATTACH;FMTTYPE=image/jpeg:https://www.nextshowcaseusa.com/wp-content/uploads/2024/01/February-Spotlight-Wide.jpg
ORGANIZER;CN="Next Showcase USA":MAILTO:nextshowcaseusa@gmail.com
END:VEVENT
END:VCALENDAR